Package: EBImage Version: 4.51.0 Command: /home/rapidbuild/bbs-3.22-bioc-rapid/R/bin/R CMD check --install=check:EBImage.install-out.txt --library=/home/rapidbuild/bbs-3.22-bioc-rapid/R/site-library --timings EBImage_4.51.0.tar.gz StartedAt: 2025-07-12 08:15:04 -0400 (Sat, 12 Jul 2025) EndedAt: 2025-07-12 08:16:05 -0400 (Sat, 12 Jul 2025) EllapsedTime: 60.6 seconds RetCode: 0 Status: OK CheckDir: EBImage.Rcheck Warnings: 0