Package: DirichletMultinomial Version: 1.53.0 Command: /home/rapidbuild/bbs-3.23-bioc-rapid/R/bin/R CMD INSTALL DirichletMultinomial StartedAt: 2025-11-19 06:12:49 -0500 (Wed, 19 Nov 2025) EndedAt: 2025-11-19 06:12:56 -0500 (Wed, 19 Nov 2025) EllapsedTime: 7.0 seconds RetCode: 0 Status: OK