Package: DelayedArray Version: 0.35.2 Command: /home/rapidbuild/bbs-3.22-bioc-rapid/R/bin/R CMD build --keep-empty-dirs --no-resave-data DelayedArray StartedAt: 2025-07-19 06:40:14 -0400 (Sat, 19 Jul 2025) EndedAt: 2025-07-19 06:41:00 -0400 (Sat, 19 Jul 2025) EllapsedTime: 46.3 seconds RetCode: 0 Status: OK PackageFile: DelayedArray_0.35.2.tar.gz PackageFileSize: 792.9 KiB