Package: DEXSeq Version: 1.55.1 Command: /home/rapidbuild/bbs-3.22-bioc-rapid/R/bin/R CMD INSTALL DEXSeq StartedAt: 2025-07-15 06:22:28 -0400 (Tue, 15 Jul 2025) EndedAt: 2025-07-15 06:23:00 -0400 (Tue, 15 Jul 2025) EllapsedTime: 32.0 seconds RetCode: 0 Status: OK