Package: DEXSeq Version: 1.55.1 Command: /home/rapidbuild/bbs-3.22-bioc-rapid/R/bin/R CMD check --install=check:DEXSeq.install-out.txt --library=/home/rapidbuild/bbs-3.22-bioc-rapid/R/site-library --timings DEXSeq_1.55.1.tar.gz StartedAt: 2025-07-15 08:09:03 -0400 (Tue, 15 Jul 2025) EndedAt: 2025-07-15 08:14:08 -0400 (Tue, 15 Jul 2025) EllapsedTime: 304.8 seconds RetCode: 0 Status: OK CheckDir: DEXSeq.Rcheck Warnings: 0