Package: DEXSeq Version: 1.55.1 Command: /home/rapidbuild/bbs-3.22-bioc-rapid/R/bin/R CMD build --keep-empty-dirs --no-resave-data DEXSeq StartedAt: 2025-07-15 06:42:21 -0400 (Tue, 15 Jul 2025) EndedAt: 2025-07-15 06:43:56 -0400 (Tue, 15 Jul 2025) EllapsedTime: 94.2 seconds RetCode: 0 Status: OK PackageFile: DEXSeq_1.55.1.tar.gz PackageFileSize: 1.643 MiB