Package: DECIPHER Version: 3.5.0 Command: /home/rapidbuild/bbs-3.22-bioc-rapid/R/bin/R CMD INSTALL DECIPHER StartedAt: 2025-07-23 06:13:22 -0400 (Wed, 23 Jul 2025) EndedAt: 2025-07-23 06:14:05 -0400 (Wed, 23 Jul 2025) EllapsedTime: 43.1 seconds RetCode: 0 Status: OK