Package: DECIPHER Version: 3.5.0 Command: /home/rapidbuild/bbs-3.22-bioc-rapid/R/bin/R CMD check --install=check:DECIPHER.install-out.txt --library=/home/rapidbuild/bbs-3.22-bioc-rapid/R/site-library --timings DECIPHER_3.5.0.tar.gz StartedAt: 2025-07-23 07:56:04 -0400 (Wed, 23 Jul 2025) EndedAt: 2025-07-23 08:19:42 -0400 (Wed, 23 Jul 2025) EllapsedTime: 1417.5 seconds RetCode: 0 Status: OK CheckDir: DECIPHER.Rcheck Warnings: 0