Package: DECIPHER Version: 3.5.0 Command: /home/rapidbuild/bbs-3.22-bioc-rapid/R/bin/R CMD build --keep-empty-dirs --no-resave-data DECIPHER StartedAt: 2025-07-23 06:36:57 -0400 (Wed, 23 Jul 2025) EndedAt: 2025-07-23 06:49:37 -0400 (Wed, 23 Jul 2025) EllapsedTime: 760.2 seconds RetCode: 0 Status: OK PackageFile: DECIPHER_3.5.0.tar.gz PackageFileSize: 17.91 MiB