Package: ConsensusClusterPlus Version: 1.73.0 Command: /home/rapidbuild/bbs-3.22-bioc-rapid/R/bin/R CMD check --install=check:ConsensusClusterPlus.install-out.txt --library=/home/rapidbuild/bbs-3.22-bioc-rapid/R/site-library --timings ConsensusClusterPlus_1.73.0.tar.gz StartedAt: 2025-10-08 08:04:31 -0400 (Wed, 08 Oct 2025) EndedAt: 2025-10-08 08:04:52 -0400 (Wed, 08 Oct 2025) EllapsedTime: 21.3 seconds RetCode: 0 Status: OK CheckDir: ConsensusClusterPlus.Rcheck Warnings: 0