Package: ComplexHeatmap Version: 2.25.2 Command: /home/rapidbuild/bbs-3.22-bioc-rapid/R/bin/R CMD INSTALL ComplexHeatmap StartedAt: 2025-07-13 06:12:49 -0400 (Sun, 13 Jul 2025) EndedAt: 2025-07-13 06:13:05 -0400 (Sun, 13 Jul 2025) EllapsedTime: 16.4 seconds RetCode: 0 Status: OK