Package: ComplexHeatmap Version: 2.25.2 Command: /home/rapidbuild/bbs-3.22-bioc-rapid/R/bin/R CMD check --install=check:ComplexHeatmap.install-out.txt --library=/home/rapidbuild/bbs-3.22-bioc-rapid/R/site-library --timings ComplexHeatmap_2.25.2.tar.gz StartedAt: 2025-07-14 08:10:28 -0400 (Mon, 14 Jul 2025) EndedAt: 2025-07-14 08:14:21 -0400 (Mon, 14 Jul 2025) EllapsedTime: 233.6 seconds RetCode: 0 Status: OK CheckDir: ComplexHeatmap.Rcheck Warnings: 0