Package: ChemmineR Version: 3.61.1 Command: /home/rapidbuild/bbs-3.22-bioc-rapid/R/bin/R CMD check --install=check:ChemmineR.install-out.txt --library=/home/rapidbuild/bbs-3.22-bioc-rapid/R/site-library --timings ChemmineR_3.61.1.tar.gz StartedAt: 2025-07-14 08:08:49 -0400 (Mon, 14 Jul 2025) EndedAt: 2025-07-14 08:10:27 -0400 (Mon, 14 Jul 2025) EllapsedTime: 98.7 seconds RetCode: 1 Status: ERROR CheckDir: ChemmineR.Rcheck Warnings: NA