Package: ChemmineR Version: 3.61.1 Command: /home/rapidbuild/bbs-3.22-bioc-rapid/R/bin/R CMD build --keep-empty-dirs --no-resave-data ChemmineR StartedAt: 2025-07-14 06:41:23 -0400 (Mon, 14 Jul 2025) EndedAt: 2025-07-14 06:42:05 -0400 (Mon, 14 Jul 2025) EllapsedTime: 42.6 seconds RetCode: 0 Status: OK PackageFile: ChemmineR_3.61.1.tar.gz PackageFileSize: 2.098 MiB