Package: ChemmineOB Version: 1.47.4 Command: /home/rapidbuild/bbs-3.22-bioc-rapid/R/bin/R CMD build --keep-empty-dirs --no-resave-data ChemmineOB StartedAt: 2025-07-25 06:37:49 -0400 (Fri, 25 Jul 2025) EndedAt: 2025-07-25 06:39:18 -0400 (Fri, 25 Jul 2025) EllapsedTime: 89.5 seconds RetCode: 0 Status: OK PackageFile: ChemmineOB_1.47.4.tar.gz PackageFileSize: 1.303 MiB