Package: Biostrings Version: 2.77.2 Command: /home/rapidbuild/bbs-3.22-bioc-rapid/R/bin/R CMD INSTALL Biostrings StartedAt: 2025-07-25 06:13:18 -0400 (Fri, 25 Jul 2025) EndedAt: 2025-07-25 06:13:40 -0400 (Fri, 25 Jul 2025) EllapsedTime: 22.0 seconds RetCode: 0 Status: OK