Package: BiocSingular Version: 1.25.0 Command: /home/rapidbuild/bbs-3.22-bioc-rapid/R/bin/R CMD INSTALL BiocSingular StartedAt: 2025-10-12 06:18:25 -0400 (Sun, 12 Oct 2025) EndedAt: 2025-10-12 06:18:47 -0400 (Sun, 12 Oct 2025) EllapsedTime: 22.2 seconds RetCode: 0 Status: OK