Package: BiocSingular Version: 1.25.0 Command: /home/rapidbuild/bbs-3.22-bioc-rapid/R/bin/R CMD build --keep-empty-dirs --no-resave-data BiocSingular StartedAt: 2025-10-12 06:33:29 -0400 (Sun, 12 Oct 2025) EndedAt: 2025-10-12 06:34:01 -0400 (Sun, 12 Oct 2025) EllapsedTime: 31.6 seconds RetCode: 0 Status: OK PackageFile: BiocSingular_1.25.0.tar.gz PackageFileSize: 602.5 KiB