Package: BiocPkgTools Version: 1.27.6 Command: /home/rapidbuild/bbs-3.22-bioc-rapid/R/bin/R CMD check --install=check:BiocPkgTools.install-out.txt --library=/home/rapidbuild/bbs-3.22-bioc-rapid/R/site-library --timings BiocPkgTools_1.27.6.tar.gz StartedAt: 2025-07-02 07:54:19 -0400 (Wed, 02 Jul 2025) EndedAt: 2025-07-02 07:58:05 -0400 (Wed, 02 Jul 2025) EllapsedTime: 226.5 seconds RetCode: 0 Status: OK CheckDir: BiocPkgTools.Rcheck Warnings: 0