Package: BiocNeighbors Version: 2.3.1 Command: /home/rapidbuild/bbs-3.22-bioc-rapid/R/bin/R CMD check --install=check:BiocNeighbors.install-out.txt --library=/home/rapidbuild/bbs-3.22-bioc-rapid/R/site-library --timings BiocNeighbors_2.3.1.tar.gz StartedAt: 2025-07-15 07:53:05 -0400 (Tue, 15 Jul 2025) EndedAt: 2025-07-15 07:53:31 -0400 (Tue, 15 Jul 2025) EllapsedTime: 26.2 seconds RetCode: 0 Status: OK CheckDir: BiocNeighbors.Rcheck Warnings: 0