Package: BiocNeighbors Version: 2.3.1 Command: /home/rapidbuild/bbs-3.22-bioc-rapid/R/bin/R CMD build --keep-empty-dirs --no-resave-data BiocNeighbors StartedAt: 2025-07-14 06:35:05 -0400 (Mon, 14 Jul 2025) EndedAt: 2025-07-14 06:35:46 -0400 (Mon, 14 Jul 2025) EllapsedTime: 40.3 seconds RetCode: 0 Status: OK PackageFile: BiocNeighbors_2.3.1.tar.gz PackageFileSize: 328.9 KiB