Package: BiocIO Version: 1.19.0 Command: /home/rapidbuild/bbs-3.22-bioc-rapid/R/bin/R CMD INSTALL BiocIO StartedAt: 2025-07-15 06:08:12 -0400 (Tue, 15 Jul 2025) EndedAt: 2025-07-15 06:08:16 -0400 (Tue, 15 Jul 2025) EllapsedTime: 4.0 seconds RetCode: 0 Status: OK