Package: BiocGenerics Version: 0.55.0 Command: /home/rapidbuild/bbs-3.22-bioc-rapid/R/bin/R CMD INSTALL BiocGenerics StartedAt: 2025-07-25 06:08:01 -0400 (Fri, 25 Jul 2025) EndedAt: 2025-07-25 06:08:05 -0400 (Fri, 25 Jul 2025) EllapsedTime: 4.0 seconds RetCode: 0 Status: OK