Package: BiocGenerics Version: 0.55.0 Command: /home/rapidbuild/bbs-3.22-bioc-rapid/R/bin/R CMD build --keep-empty-dirs --no-resave-data BiocGenerics StartedAt: 2025-07-25 06:33:49 -0400 (Fri, 25 Jul 2025) EndedAt: 2025-07-25 06:33:50 -0400 (Fri, 25 Jul 2025) EllapsedTime: 1.0 seconds RetCode: 0 Status: OK PackageFile: BiocGenerics_0.55.0.tar.gz PackageFileSize: 54.79 KiB