Package: BiocCheck Version: 1.45.7 Command: /home/rapidbuild/bbs-3.22-bioc-rapid/R/bin/R CMD build --keep-empty-dirs --no-resave-data BiocCheck StartedAt: 2025-06-28 12:32:35 -0400 (Sat, 28 Jun 2025) EndedAt: 2025-06-28 12:32:46 -0400 (Sat, 28 Jun 2025) EllapsedTime: 11.0 seconds RetCode: 0 Status: OK PackageFile: BiocCheck_1.45.7.tar.gz PackageFileSize: 311.4 KiB