Package: Biobase Version: 2.69.0 Command: /home/rapidbuild/bbs-3.22-bioc-rapid/R/bin/R CMD INSTALL Biobase StartedAt: 2025-07-15 06:08:49 -0400 (Tue, 15 Jul 2025) EndedAt: 2025-07-15 06:08:57 -0400 (Tue, 15 Jul 2025) EllapsedTime: 7.5 seconds RetCode: 0 Status: OK