Package: Biobase Version: 2.69.0 Command: /home/rapidbuild/bbs-3.22-bioc-rapid/R/bin/R CMD build --keep-empty-dirs --no-resave-data Biobase StartedAt: 2025-07-17 06:34:47 -0400 (Thu, 17 Jul 2025) EndedAt: 2025-07-17 06:35:00 -0400 (Thu, 17 Jul 2025) EllapsedTime: 13.0 seconds RetCode: 0 Status: OK PackageFile: Biobase_2.69.0.tar.gz PackageFileSize: 1.886 MiB