Package: BSgenome Version: 1.77.1 Command: /home/rapidbuild/bbs-3.22-bioc-rapid/R/bin/R CMD INSTALL BSgenome StartedAt: 2025-07-25 06:23:08 -0400 (Fri, 25 Jul 2025) EndedAt: 2025-07-25 06:23:42 -0400 (Fri, 25 Jul 2025) EllapsedTime: 34.1 seconds RetCode: 0 Status: OK