Package: AnnotationHubData Version: 1.39.2 Command: /home/rapidbuild/bbs-3.22-bioc-rapid/R/bin/R CMD INSTALL AnnotationHubData StartedAt: 2025-06-28 12:23:27 -0400 (Sat, 28 Jun 2025) EndedAt: 2025-06-28 12:24:01 -0400 (Sat, 28 Jun 2025) EllapsedTime: 33.8 seconds RetCode: 0 Status: OK