Package: AnnotationHub Version: 3.99.6 Command: /home/rapidbuild/bbs-3.22-bioc-rapid/R/bin/R CMD INSTALL AnnotationHub StartedAt: 2025-07-25 06:20:23 -0400 (Fri, 25 Jul 2025) EndedAt: 2025-07-25 06:20:36 -0400 (Fri, 25 Jul 2025) EllapsedTime: 13.0 seconds RetCode: 0 Status: OK