Package: AnnotationHub Version: 3.99.6 Command: /home/rapidbuild/bbs-3.22-bioc-rapid/R/bin/R CMD build --keep-empty-dirs --no-resave-data AnnotationHub StartedAt: 2025-07-25 06:30:49 -0400 (Fri, 25 Jul 2025) EndedAt: 2025-07-25 06:32:25 -0400 (Fri, 25 Jul 2025) EllapsedTime: 95.5 seconds RetCode: 0 Status: OK PackageFile: AnnotationHub_3.99.6.tar.gz PackageFileSize: 978.2 KiB