Welcome to mirrors.dotsrc.org

All our mirrors of open source software are available via http, https, ftp and an onion service. More information about our mirrors including statistics and contact information is available on our mirror info pages.

For information about dotsrc.org and our other services please go to our website.

Index of /bioconductor/checkResults/devel/bioc-rapid-LATEST/

File Name  ↓ File Size  ↓ Date  ↓ 
--
-2025-11-16 15:10:08
-2025-11-16 15:10:08
-2025-11-16 15:10:08
-2025-11-16 15:10:08
-2025-11-16 15:10:08
-2025-11-16 15:10:08
-2025-11-16 15:10:08
-2025-11-16 15:10:08
-2025-11-16 15:10:08
-2025-11-16 15:10:08
-2025-11-16 15:10:08
-2025-11-16 15:10:08
-2025-11-16 15:10:08
-2025-11-16 15:10:08
-2025-11-16 15:10:08
-2025-11-16 15:10:08
-2025-11-16 15:10:08
-2025-11-16 15:10:08
-2025-11-16 15:10:08
-2025-11-16 15:10:08
-2025-11-16 15:10:08
-2025-11-16 15:10:08
-2025-11-16 15:10:08
-2025-11-16 15:10:08
-2025-11-16 15:10:08
-2025-11-16 15:10:08
-2025-11-16 15:10:09
-2025-11-16 15:10:09
-2025-11-16 15:10:09
-2025-11-16 15:10:09
-2025-11-16 15:10:09
-2025-11-16 15:10:09
-2025-11-16 15:10:09
-2025-11-16 15:10:09
-2025-11-16 15:10:09
-2025-11-16 15:10:09
-2025-11-16 15:10:09
-2025-11-16 15:10:09
-2025-11-16 15:10:09
-2025-11-16 15:10:09
-2025-11-16 15:10:09
-2025-11-16 15:10:09
-2025-11-16 15:10:09
-2025-11-16 15:10:09
-2025-11-16 15:10:09
-2025-11-16 15:10:09
-2025-11-16 15:10:09
-2025-11-16 15:10:09
-2025-11-16 15:10:09
-2025-11-16 15:10:09
-2025-11-16 15:10:09
-2025-11-16 15:10:09
-2025-11-16 15:10:09
-2025-11-16 15:10:09
-2025-11-16 15:10:09
-2025-11-16 15:10:09
-2025-11-16 15:10:09
-2025-11-16 15:10:09
-2025-11-16 15:10:09
-2025-11-16 15:10:09
-2025-11-16 15:10:09
-2025-11-16 15:10:09
-2025-11-16 15:10:09
-2025-11-16 15:10:09
-2025-11-16 15:10:09
-2025-11-16 15:10:09
-2025-11-16 15:10:09
-2025-11-16 15:10:09
-2025-11-16 15:10:09
-2025-11-16 15:10:09
-2025-11-16 15:10:09
-2025-11-16 15:10:09
-2025-11-16 15:10:09
-2025-11-16 15:10:09
-2025-11-16 15:10:09
-2025-11-16 15:10:09
-2025-11-16 15:10:09
-2025-11-16 15:10:09
-2025-11-16 15:10:09
-2025-11-16 15:10:09
-2025-11-16 15:10:09
-2025-11-16 15:10:09
-2025-11-16 15:10:09
-2025-11-16 15:10:09
-2025-11-16 15:10:09
-2025-11-16 15:10:09
-2025-11-16 15:10:09
-2025-11-16 15:10:09
-2025-11-16 15:10:09
-2025-11-16 15:10:09
-2025-11-16 15:10:09
-2025-11-16 15:10:09
-2025-11-16 15:10:09
-2025-11-16 15:10:09
-2025-11-16 15:10:09
-2025-11-16 15:10:09
-2025-11-16 15:10:09
-2025-11-16 15:10:09
-2025-11-16 15:10:09
-2025-11-16 15:10:09
-2025-11-16 15:10:09
-2025-11-16 15:10:09
-2025-11-16 15:10:09
-2025-11-16 15:10:09
-2025-11-16 15:10:09
-2025-11-16 15:10:09
-2025-11-16 15:10:09
-2025-11-16 15:10:09
-2025-11-16 15:10:09
-2025-11-16 15:10:09
-2025-11-16 15:10:09
-2025-11-16 15:10:09
-2025-11-16 15:10:09
-2025-11-16 15:10:09
-2025-11-16 15:10:09
-2025-11-16 15:10:09
-2025-11-16 15:10:09
-2025-11-16 15:10:09
-2025-11-16 15:10:09
-2025-11-16 15:10:09
-2025-11-16 15:10:09
-2025-11-16 15:10:09
-2025-11-16 15:10:09
-2025-11-16 15:10:09
-2025-11-16 15:10:09
-2025-11-16 15:10:09
-2025-11-16 15:10:09
-2025-11-16 15:10:09
-2025-11-16 15:10:09
-2025-11-16 15:10:09
-2025-11-16 15:10:09
-2025-11-16 15:10:09
-2025-11-16 15:10:09
-2025-11-16 15:10:09
-2025-11-16 15:10:09
-2025-11-16 15:10:09
-2025-11-16 15:10:09
-2025-11-16 15:10:09
-2025-11-16 15:10:09
-2025-11-16 15:10:09
-2025-11-16 15:10:09
-2025-11-16 15:10:09
-2025-11-16 15:10:09
-2025-11-16 15:10:09
-2025-11-16 15:10:09
-2025-11-16 15:10:09
-2025-11-16 15:10:09
-2025-11-16 15:10:09
-2025-11-16 15:10:09
-2025-11-16 15:10:09
-2025-11-16 15:10:09
-2025-11-16 15:10:09
-2025-11-16 15:10:09
-2025-11-16 15:10:09
-2025-11-16 15:10:09
-2025-11-16 15:10:09
-2025-11-16 15:10:10
-2025-11-16 15:10:10
-2025-11-16 15:10:10
-2025-11-16 15:10:10
-2025-11-16 15:10:10
-2025-11-16 15:10:10
-2025-11-16 15:10:10
-2025-11-16 15:10:10
-2025-11-16 15:10:10
-2025-11-16 15:10:10
-2025-11-16 15:10:10
-2025-11-16 15:10:10
-2025-11-16 15:10:10
-2025-11-16 15:10:10
-2025-11-16 15:10:10
-2025-11-16 15:10:10
-2025-11-16 15:10:10
-2025-11-16 15:10:10
-2025-11-16 15:10:10
-2025-11-16 15:10:10
-2025-11-16 15:10:10
-2025-11-16 15:10:10
-2025-11-16 15:10:10
-2025-11-16 15:10:10
-2025-11-16 15:10:10
-2025-11-16 15:10:10
-2025-11-16 15:10:10
-2025-11-16 15:10:10
-2025-11-16 15:10:10
-2025-11-16 15:10:10
-2025-11-16 15:10:10
-2025-11-16 15:10:10
-2025-11-16 15:10:10
-2025-11-16 15:10:10
-2025-11-16 15:10:10
-2025-11-16 15:10:10
-2025-11-16 15:10:10
-2025-11-16 15:10:10
-2025-11-16 15:10:10
-2025-11-16 15:10:10
-2025-11-16 15:10:10
-2025-11-16 15:10:10
-2025-11-16 15:10:10
-2025-11-16 15:10:10
-2025-11-16 15:10:10
-2025-11-16 15:10:10
-2025-11-16 15:10:10
-2025-11-16 15:10:10
-2025-11-16 15:10:10
-2025-11-16 15:10:10
-2025-11-16 15:10:10
-2025-11-16 15:10:10
-2025-11-16 15:10:10
-2025-11-16 15:10:10
-2025-11-16 15:10:10
-2025-11-16 15:10:10
-2025-11-16 15:10:10
-2025-11-16 15:10:10
-2025-11-16 15:10:10
-2025-11-16 15:10:10
-2025-11-16 15:10:10
-2025-11-16 15:10:10
-2025-11-16 15:10:10
-2025-11-16 15:10:10
-2025-11-16 15:10:10
-2025-11-16 15:10:10
-2025-11-16 15:10:10
-2025-11-16 15:10:10
-2025-11-16 15:10:10
-2025-11-16 15:10:10
-2025-11-16 15:10:10
-2025-11-16 15:10:10
-2025-11-16 15:10:10
-2025-11-16 15:10:10
121.9 KiB2025-11-16 15:10:08
6.0 KiB2025-11-16 15:10:08
20.7 KiB2025-11-16 15:10:08
7.0 KiB2025-11-16 15:10:08
2.6 KiB2025-11-16 15:10:08
0 B2025-11-16 15:10:08
7.1 KiB2025-11-16 15:10:08
7.4 KiB2025-11-16 15:10:08
24.9 KiB2025-11-16 15:10:08
7.1 KiB2025-11-16 15:10:08
11.9 KiB2025-11-16 15:10:08
3.4 KiB2025-11-16 15:10:08
245.9 KiB2025-11-16 15:10:10
4.2 MiB2025-11-16 15:10:13