Welcome to mirrors.dotsrc.org

All our mirrors of open source software are available via http, https, ftp and an onion service. More information about our mirrors including statistics and contact information is available on our mirror info pages.

For information about dotsrc.org and our other services please go to our website.

Index of /bioconductor/checkResults/devel/bioc-rapid-LATEST/

File Name  ↓ File Size  ↓ Date  ↓ 
--
-2025-11-20 15:16:50
-2025-11-20 15:16:50
-2025-11-20 15:16:50
-2025-11-20 15:16:50
-2025-11-20 15:16:50
-2025-11-20 15:16:50
-2025-11-20 15:16:50
-2025-11-20 15:16:50
-2025-11-20 15:16:50
-2025-11-20 15:16:50
-2025-11-20 15:16:50
-2025-11-20 15:16:50
-2025-11-20 15:16:50
-2025-11-20 15:16:50
-2025-11-20 15:16:50
-2025-11-20 15:16:50
-2025-11-20 15:16:50
-2025-11-20 15:16:50
-2025-11-20 15:16:50
-2025-11-20 15:16:50
-2025-11-20 15:16:50
-2025-11-20 15:16:50
-2025-11-20 15:16:50
-2025-11-20 15:16:50
-2025-11-20 15:16:50
-2025-11-20 15:16:50
-2025-11-20 15:16:50
-2025-11-20 15:16:50
-2025-11-20 15:16:50
-2025-11-20 15:16:50
-2025-11-20 15:16:50
-2025-11-20 15:16:50
-2025-11-20 15:16:50
-2025-11-20 15:16:50
-2025-11-20 15:16:50
-2025-11-20 15:16:50
-2025-11-20 15:16:50
-2025-11-20 15:16:50
-2025-11-20 15:16:50
-2025-11-20 15:16:50
-2025-11-20 15:16:50
-2025-11-20 15:16:50
-2025-11-20 15:16:50
-2025-11-20 15:16:50
-2025-11-20 15:16:50
-2025-11-20 15:16:50
-2025-11-20 15:16:50
-2025-11-20 15:16:50
-2025-11-20 15:16:50
-2025-11-20 15:16:50
-2025-11-20 15:16:50
-2025-11-20 15:16:50
-2025-11-20 15:16:50
-2025-11-20 15:16:50
-2025-11-20 15:16:50
-2025-11-20 15:16:50
-2025-11-20 15:16:51
-2025-11-20 15:16:51
-2025-11-20 15:16:51
-2025-11-20 15:16:51
-2025-11-20 15:16:51
-2025-11-20 15:16:51
-2025-11-20 15:16:51
-2025-11-20 15:16:51
-2025-11-20 15:16:51
-2025-11-20 15:16:51
-2025-11-20 15:16:51
-2025-11-20 15:16:51
-2025-11-20 15:16:51
-2025-11-20 15:16:51
-2025-11-20 15:16:51
-2025-11-20 15:16:51
-2025-11-20 15:16:51
-2025-11-20 15:16:51
-2025-11-20 15:16:51
-2025-11-20 15:16:51
-2025-11-20 15:16:51
-2025-11-20 15:16:51
-2025-11-20 15:16:51
-2025-11-20 15:16:51
-2025-11-20 15:16:51
-2025-11-20 15:16:51
-2025-11-20 15:16:51
-2025-11-20 15:16:51
-2025-11-20 15:16:51
-2025-11-20 15:16:51
-2025-11-20 15:16:51
-2025-11-20 15:16:51
-2025-11-20 15:16:51
-2025-11-20 15:16:51
-2025-11-20 15:16:51
-2025-11-20 15:16:51
-2025-11-20 15:16:51
-2025-11-20 15:16:51
-2025-11-20 15:16:52
-2025-11-20 15:16:51
-2025-11-20 15:16:51
-2025-11-20 15:16:51
-2025-11-20 15:16:52
-2025-11-20 15:16:52
-2025-11-20 15:16:52
-2025-11-20 15:16:52
-2025-11-20 15:16:52
-2025-11-20 15:16:52
-2025-11-20 15:16:52
-2025-11-20 15:16:52
-2025-11-20 15:16:52
-2025-11-20 15:16:52
-2025-11-20 15:16:52
-2025-11-20 15:16:52
-2025-11-20 15:16:52
-2025-11-20 15:16:52
-2025-11-20 15:16:49
-2025-11-20 15:16:49
-2025-11-20 15:16:49
-2025-11-20 15:16:49
-2025-11-20 15:16:49
-2025-11-20 15:16:49
-2025-11-20 15:16:49
-2025-11-20 15:16:49
-2025-11-20 15:16:50
-2025-11-20 15:16:50
-2025-11-20 15:16:50
-2025-11-20 15:16:50
-2025-11-20 15:16:50
-2025-11-20 15:16:50
-2025-11-20 15:16:50
-2025-11-20 15:16:50
-2025-11-20 15:16:50
-2025-11-20 15:16:50
-2025-11-20 15:16:50
-2025-11-20 15:16:50
-2025-11-20 15:16:50
-2025-11-20 15:16:50
-2025-11-20 15:16:50
-2025-11-20 15:16:50
-2025-11-20 15:16:50
-2025-11-20 15:16:50
-2025-11-20 15:16:50
-2025-11-20 15:16:50
-2025-11-20 15:16:50
-2025-11-20 15:16:50
-2025-11-20 15:16:50
-2025-11-20 15:16:50
-2025-11-20 15:16:50
-2025-11-20 15:16:50
-2025-11-20 15:16:50
-2025-11-20 15:16:50
-2025-11-20 15:16:50
-2025-11-20 15:16:50
-2025-11-20 15:16:50
-2025-11-20 15:16:50
-2025-11-20 15:16:50
-2025-11-20 15:16:50
-2025-11-20 15:16:50
-2025-11-20 15:16:50
-2025-11-20 15:16:50
-2025-11-20 15:16:50
-2025-11-20 15:16:50
-2025-11-20 15:16:50
-2025-11-20 15:16:50
-2025-11-20 15:16:50
-2025-11-20 15:16:50
-2025-11-20 15:16:50
-2025-11-20 15:16:50
-2025-11-20 15:16:50
-2025-11-20 15:16:50
-2025-11-20 15:16:50
-2025-11-20 15:16:50
-2025-11-20 15:16:50
-2025-11-20 15:16:50
-2025-11-20 15:16:50
-2025-11-20 15:16:50
-2025-11-20 15:16:50
-2025-11-20 15:16:51
-2025-11-20 15:16:51
-2025-11-20 15:16:51
-2025-11-20 15:16:51
-2025-11-20 15:16:51
-2025-11-20 15:16:51
-2025-11-20 15:16:51
-2025-11-20 15:16:51
-2025-11-20 15:16:51
-2025-11-20 15:16:51
-2025-11-20 15:16:51
-2025-11-20 15:16:51
-2025-11-20 15:16:51
-2025-11-20 15:16:51
-2025-11-20 15:16:51
-2025-11-20 15:16:51
-2025-11-20 15:16:51
-2025-11-20 15:16:51
-2025-11-20 15:16:51
-2025-11-20 15:16:51
-2025-11-20 15:16:51
-2025-11-20 15:16:51
-2025-11-20 15:16:51
-2025-11-20 15:16:51
-2025-11-20 15:16:51
-2025-11-20 15:16:51
-2025-11-20 15:16:51
-2025-11-20 15:16:51
-2025-11-20 15:16:51
-2025-11-20 15:16:51
-2025-11-20 15:16:51
-2025-11-20 15:16:51
-2025-11-20 15:16:51
-2025-11-20 15:16:51
-2025-11-20 15:16:51
-2025-11-20 15:16:51
-2025-11-20 15:16:51
-2025-11-20 15:16:51
-2025-11-20 15:16:51
-2025-11-20 15:16:51
-2025-11-20 15:16:51
-2025-11-20 15:16:51
-2025-11-20 15:16:52
-2025-11-20 15:16:52
-2025-11-20 15:16:52
-2025-11-20 15:16:52
-2025-11-20 15:16:52
-2025-11-20 15:16:52
-2025-11-20 15:16:52
-2025-11-20 15:16:52
-2025-11-20 15:16:52
-2025-11-20 15:16:52
-2025-11-20 15:16:52
-2025-11-20 15:16:52
-2025-11-20 15:16:52
-2025-11-20 15:16:52
7.1 KiB2025-11-20 15:16:49
7.1 KiB2025-11-20 15:16:49
7.0 KiB2025-11-20 15:16:49
20.7 KiB2025-11-20 15:16:49
2.6 KiB2025-11-20 15:16:49
3.4 KiB2025-11-20 15:16:49
245.9 KiB2025-11-20 15:16:52
24.9 KiB2025-11-20 15:16:49
11.9 KiB2025-11-20 15:16:49
6.0 KiB2025-11-20 15:16:49
4.2 MiB2025-11-20 15:16:54
0 B2025-11-20 15:16:49
7.4 KiB2025-11-20 15:16:49
121.9 KiB2025-11-20 15:16:49