Package: zellkonverter Version: 1.19.2 Command: F:\biocbuild\bbs-3.22-bioc\R\bin\R.exe CMD check --no-multiarch --test-dir=longtests --no-stop-on-test-error --no-codoc --no-examples --no-manual --ignore-vignettes --check-subdirs=no zellkonverter_1.19.2.tar.gz StartedAt: 2025-07-12 16:16:45 -0400 (Sat, 12 Jul 2025) EndedAt: 2025-07-12 16:19:25 -0400 (Sat, 12 Jul 2025) EllapsedTime: 160.2 seconds RetCode: 1 Status: ERROR CheckDir: zellkonverter.Rcheck Warnings: NA