Package: extraChIPs Version: 1.13.2 Command: F:\biocbuild\bbs-3.22-bioc\R\bin\R.exe CMD check --no-multiarch --test-dir=longtests --no-stop-on-test-error --no-codoc --no-examples --no-manual --ignore-vignettes --check-subdirs=no extraChIPs_1.13.2.tar.gz StartedAt: 2025-07-12 16:06:48 -0400 (Sat, 12 Jul 2025) EndedAt: 2025-07-12 16:12:30 -0400 (Sat, 12 Jul 2025) EllapsedTime: 342.0 seconds RetCode: 0 Status: OK CheckDir: extraChIPs.Rcheck Warnings: 0