Package: biodbNci Version: 1.13.0 Command: F:\biocbuild\bbs-3.22-bioc\R\bin\R.exe CMD check --no-multiarch --test-dir=longtests --no-stop-on-test-error --no-codoc --no-examples --no-manual --ignore-vignettes --check-subdirs=no biodbNci_1.13.0.tar.gz StartedAt: 2025-06-28 16:02:42 -0400 (Sat, 28 Jun 2025) EndedAt: 2025-06-28 16:04:20 -0400 (Sat, 28 Jun 2025) EllapsedTime: 97.5 seconds RetCode: 1 Status: ERROR CheckDir: biodbNci.Rcheck Warnings: NA