Package: biodbNcbi Version: 1.13.0 Command: /home/biocbuild/bbs-3.22-bioc/R/bin/R CMD check --test-dir=longtests --no-stop-on-test-error --no-codoc --no-examples --no-manual --ignore-vignettes --check-subdirs=no biodbNcbi_1.13.0.tar.gz StartedAt: 2025-06-28 16:02:11 -0400 (Sat, 28 Jun 2025) EndedAt: 2025-06-28 16:02:51 -0400 (Sat, 28 Jun 2025) EllapsedTime: 40.0 seconds RetCode: 1 Status: ERROR CheckDir: biodbNcbi.Rcheck Warnings: NA