Package: beachmat Version: 2.25.2 Command: F:\biocbuild\bbs-3.22-bioc\R\bin\R.exe CMD check --no-multiarch --test-dir=longtests --no-stop-on-test-error --no-codoc --no-examples --no-manual --ignore-vignettes --check-subdirs=no beachmat_2.25.2.tar.gz StartedAt: 2025-07-19 16:02:43 -0400 (Sat, 19 Jul 2025) EndedAt: 2025-07-19 16:06:35 -0400 (Sat, 19 Jul 2025) EllapsedTime: 231.9 seconds RetCode: 0 Status: WARNINGS CheckDir: beachmat.Rcheck Warnings: 2