Package: autonomics Version: 1.17.0 Command: F:\biocbuild\bbs-3.22-bioc\R\bin\R.exe CMD check --no-multiarch --test-dir=longtests --no-stop-on-test-error --no-codoc --no-examples --no-manual --ignore-vignettes --check-subdirs=no autonomics_1.17.0.tar.gz StartedAt: 2025-07-12 16:02:45 -0400 (Sat, 12 Jul 2025) EndedAt: 2025-07-12 16:06:36 -0400 (Sat, 12 Jul 2025) EllapsedTime: 231.6 seconds RetCode: 1 Status: ERROR CheckDir: autonomics.Rcheck Warnings: NA