Package: MungeSumstats Version: 1.17.1 Command: F:\biocbuild\bbs-3.22-bioc\R\bin\R.exe CMD check --no-multiarch --test-dir=longtests --no-stop-on-test-error --no-codoc --no-examples --no-manual --ignore-vignettes --check-subdirs=no MungeSumstats_1.17.1.tar.gz StartedAt: 2025-07-05 16:13:30 -0400 (Sat, 05 Jul 2025) EndedAt: 2025-07-05 16:22:35 -0400 (Sat, 05 Jul 2025) EllapsedTime: 544.4 seconds RetCode: 0 Status: WARNINGS CheckDir: MungeSumstats.Rcheck Warnings: 1