Package: MungeSumstats Version: 1.17.1 Command: /home/biocbuild/bbs-3.22-bioc/R/bin/R CMD check --test-dir=longtests --no-stop-on-test-error --no-codoc --no-examples --no-manual --ignore-vignettes --check-subdirs=no MungeSumstats_1.17.1.tar.gz StartedAt: 2025-07-05 16:16:31 -0400 (Sat, 05 Jul 2025) EndedAt: 2025-07-05 16:36:35 -0400 (Sat, 05 Jul 2025) EllapsedTime: 1204.2 seconds RetCode: 1 Status: ERROR CheckDir: MungeSumstats.Rcheck Warnings: NA