Package: MungeSumstats Version: 1.17.1 Command: /Library/Frameworks/R.framework/Resources/bin/R CMD check --test-dir=longtests --no-stop-on-test-error --no-codoc --no-examples --no-manual --ignore-vignettes --check-subdirs=no MungeSumstats_1.17.1.tar.gz StartedAt: 2025-06-28 16:07:09 -0400 (Sat, 28 Jun 2025) EndedAt: 2025-06-28 16:11:25 -0400 (Sat, 28 Jun 2025) EllapsedTime: 256.0 seconds RetCode: 1 Status: ERROR CheckDir: MungeSumstats.Rcheck Warnings: NA