Package: scviR Version: 1.11.0 Command: /home/biocbuild/bbs-3.23-bioc/R/bin/R CMD check --install=check:scviR.install-out.txt --library=/home/biocbuild/bbs-3.23-bioc/R/site-library --timings scviR_1.11.0.tar.gz StartedAt: 2025-11-23 15:55:43 -0000 (Sun, 23 Nov 2025) EndedAt: 2025-11-23 16:00:06 -0000 (Sun, 23 Nov 2025) EllapsedTime: 263.0 seconds RetCode: 0 Status: OK CheckDir: scviR.Rcheck Warnings: 0