Package: scviR Version: 1.11.0 Command: /home/biocbuild/bbs-3.23-bioc-gpu/R/bin/R CMD build --keep-empty-dirs --no-resave-data scviR StartedAt: 2025-11-22 10:56:58 -0500 (Sat, 22 Nov 2025) EndedAt: 2025-11-22 11:00:03 -0500 (Sat, 22 Nov 2025) EllapsedTime: 185.0 seconds RetCode: 0 Status: OK PackageFile: scviR_1.11.0.tar.gz PackageFileSize: 3.869 MiB