Package: orthos Version: 1.9.0 Command: /home/biocbuild/bbs-3.23-bioc/R/bin/R CMD INSTALL orthos StartedAt: 2025-11-22 15:46:24 -0000 (Sat, 22 Nov 2025) EndedAt: 2025-11-22 15:46:39 -0000 (Sat, 22 Nov 2025) EllapsedTime: 15.1 seconds RetCode: 0 Status: OK