Package: RbowtieCuda Version: 1.1.1 Command: /home/biocbuild/bbs-3.22-bioc/R/bin/R CMD INSTALL RbowtieCuda StartedAt: 2025-07-16 13:45:55 -0000 (Wed, 16 Jul 2025) EndedAt: 2025-07-16 13:52:10 -0000 (Wed, 16 Jul 2025) EllapsedTime: 374.9 seconds RetCode: 0 Status: OK