Package: zitools Version: 1.3.0 Command: /home/biocbuild/bbs-3.22-bioc/R/bin/R CMD build --keep-empty-dirs --no-resave-data --md5 zitools StartedAt: 2025-10-06 20:47:40 -0400 (Mon, 06 Oct 2025) EndedAt: 2025-10-06 20:49:28 -0400 (Mon, 06 Oct 2025) EllapsedTime: 108.3 seconds RetCode: 0 Status: OK PackageFile: zitools_1.3.0.tar.gz PackageFileSize: 253.4 KiB