Package: zinbwave Version: 1.31.0 Command: /home/biocbuild/R/R/bin/R CMD check --install=check:zinbwave.install-out.txt --library=/home/biocbuild/R/R/site-library --no-vignettes --timings zinbwave_1.31.0.tar.gz StartedAt: 2025-10-03 12:55:12 -0000 (Fri, 03 Oct 2025) EndedAt: 2025-10-03 13:01:52 -0000 (Fri, 03 Oct 2025) EllapsedTime: 400.4 seconds RetCode: 0 Status: OK CheckDir: zinbwave.Rcheck Warnings: 0