Package: zenith Version: 1.11.0 Command: /Library/Frameworks/R.framework/Resources/bin/R CMD build --keep-empty-dirs --no-resave-data zenith StartedAt: 2025-10-05 18:09:20 -0400 (Sun, 05 Oct 2025) EndedAt: 2025-10-05 18:10:00 -0400 (Sun, 05 Oct 2025) EllapsedTime: 39.4 seconds RetCode: 0 Status: OK PackageFile: zenith_1.11.0.tar.gz PackageFileSize: 678.4 KiB