Package: zFPKM Version: 1.31.0 Command: F:\biocbuild\bbs-3.22-bioc\R\bin\R.exe CMD INSTALL zFPKM StartedAt: 2025-07-20 15:57:34 -0400 (Sun, 20 Jul 2025) EndedAt: 2025-07-20 15:57:59 -0400 (Sun, 20 Jul 2025) EllapsedTime: 25.3 seconds RetCode: 0 Status: OK